BEGIN:VCALENDAR
VERSION:2.0
PRODID:-//Tukios.com/
BEGIN:VEVENT
UID:bd82a48d-010c-4da5-9f65-c746fcfd8814@www.livingwatersfunerals.com
DTSTAMP:20260422T210857Z
DTSTART:20260515T000000Z
DTEND:20260515T020000Z
SUMMARY:Viewing
DESCRIPTION:
URL:https://www.livingwatersfunerals.com/obituaries/fouche-foster
LOCATION: 620 Oregon St.  Bakersfield CA 93305
GEO:35.3835384;-118.9913152
END:VEVENT
END:VCALENDAR