BEGIN:VCALENDAR
VERSION:2.0
PRODID:-//Tukios.com/
BEGIN:VEVENT
UID:b8ae8f0e-4393-4760-83f4-3a608e9b413f@www.livingwatersfunerals.com
DTSTAMP:20260422T210852Z
DTSTART:20260515T180000Z
DTEND:20260515T190000Z
SUMMARY:Funeral Service
DESCRIPTION:
URL:https://www.livingwatersfunerals.com/obituaries/fouche-foster
LOCATION: 3421 Wilson Rd  Bakersfield CA 93309
GEO:35.3317104;-119.0410319
END:VEVENT
END:VCALENDAR