BEGIN:VCALENDAR
VERSION:2.0
PRODID:-//Tukios.com/
BEGIN:VEVENT
UID:118da57f-635d-402b-97fb-38f6dcb83053@www.livingwatersfunerals.com
DTSTAMP:20260422T210836Z
DTSTART:20260515
SUMMARY:Interment
DESCRIPTION:
URL:https://www.livingwatersfunerals.com/obituaries/fouche-foster
LOCATION: 730 Potomac Ave  Bakersfield CA 93307
GEO:35.364685;-118.9945481
END:VEVENT
END:VCALENDAR